Package: hypergraph Version: 1.72.0 Command: rm -rf hypergraph.buildbin-libdir && mkdir hypergraph.buildbin-libdir && F:\biocbuild\bbs-3.17-bioc\R\bin\R.exe CMD INSTALL --build --library=hypergraph.buildbin-libdir hypergraph_1.72.0.tar.gz StartedAt: 2023-10-16 08:56:43 -0400 (Mon, 16 Oct 2023) EndedAt: 2023-10-16 08:56:52 -0400 (Mon, 16 Oct 2023) EllapsedTime: 9.1 seconds RetCode: 0 Status: OK PackageFile: hypergraph_1.72.0.zip PackageFileSize: 170.6 KiB