Package: hypergraph Version: 1.72.0 Command: /home/biocbuild/bbs-3.17-bioc/R/bin/R CMD build --keep-empty-dirs --no-resave-data hypergraph StartedAt: 2023-10-15 17:07:57 -0400 (Sun, 15 Oct 2023) EndedAt: 2023-10-15 17:07:58 -0400 (Sun, 15 Oct 2023) EllapsedTime: 1.3 seconds RetCode: 0 Status: OK PackageFile: hypergraph_1.72.0.tar.gz PackageFileSize: 8.259 KiB