Package: hypergraph Version: 1.72.0 Command: /Library/Frameworks/R.framework/Resources/bin/R CMD INSTALL hypergraph StartedAt: 2023-10-15 15:06:58 -0400 (Sun, 15 Oct 2023) EndedAt: 2023-10-15 15:07:31 -0400 (Sun, 15 Oct 2023) EllapsedTime: 32.9 seconds RetCode: 0 Status: OK