Package: hypergraph Version: 1.72.0 Command: /Library/Frameworks/R.framework/Resources/bin/R CMD check --install=check:hypergraph.install-out.txt --library=/Library/Frameworks/R.framework/Resources/library --no-vignettes --timings hypergraph_1.72.0.tar.gz StartedAt: 2023-10-16 02:46:08 -0400 (Mon, 16 Oct 2023) EndedAt: 2023-10-16 02:47:12 -0400 (Mon, 16 Oct 2023) EllapsedTime: 64.0 seconds RetCode: 0 Status: OK CheckDir: hypergraph.Rcheck Warnings: 0