Package: hyperdraw Version: 1.52.0 Command: F:\biocbuild\bbs-3.17-bioc\R\bin\R.exe CMD INSTALL hyperdraw StartedAt: 2023-10-15 16:10:17 -0400 (Sun, 15 Oct 2023) EndedAt: 2023-10-15 16:10:25 -0400 (Sun, 15 Oct 2023) EllapsedTime: 8.6 seconds RetCode: 0 Status: OK