Package: hyperdraw Version: 1.52.0 Command: F:\biocbuild\bbs-3.17-bioc\R\bin\R.exe CMD check --no-multiarch --install=check:hyperdraw.install-out.txt --library=F:\biocbuild\bbs-3.17-bioc\R\library --no-vignettes --timings hyperdraw_1.52.0.tar.gz StartedAt: 2023-10-16 03:06:56 -0400 (Mon, 16 Oct 2023) EndedAt: 2023-10-16 03:07:33 -0400 (Mon, 16 Oct 2023) EllapsedTime: 37.0 seconds RetCode: 0 Status: OK CheckDir: hyperdraw.Rcheck Warnings: 0