Package: hyperdraw Version: 1.52.0 Command: rm -rf hyperdraw.buildbin-libdir && mkdir hyperdraw.buildbin-libdir && F:\biocbuild\bbs-3.17-bioc\R\bin\R.exe CMD INSTALL --build --library=hyperdraw.buildbin-libdir hyperdraw_1.52.0.tar.gz StartedAt: 2023-10-16 08:56:42 -0400 (Mon, 16 Oct 2023) EndedAt: 2023-10-16 08:57:03 -0400 (Mon, 16 Oct 2023) EllapsedTime: 21.6 seconds RetCode: 0 Status: OK PackageFile: hyperdraw_1.52.0.zip PackageFileSize: 275.4 KiB