Package: hyperdraw Version: 1.52.0 Command: /Library/Frameworks/R.framework/Resources/bin/R CMD build --keep-empty-dirs --no-resave-data hyperdraw StartedAt: 2023-10-15 18:56:18 -0400 (Sun, 15 Oct 2023) EndedAt: 2023-10-15 18:56:47 -0400 (Sun, 15 Oct 2023) EllapsedTime: 29.1 seconds RetCode: 0 Status: OK PackageFile: hyperdraw_1.52.0.tar.gz PackageFileSize: 204.4 KiB