Package: hummingbird Version: 1.10.0 Command: rm -rf hummingbird.buildbin-libdir && mkdir hummingbird.buildbin-libdir && /Users/biocbuild/BBS/utils/build-universal.sh hummingbird_1.10.0.tar.gz /Library/Frameworks/R.framework/Resources/bin/R hummingbird.buildbin-libdir StartedAt: 2023-10-16 09:33:54 -0400 (Mon, 16 Oct 2023) EndedAt: 2023-10-16 09:35:19 -0400 (Mon, 16 Oct 2023) EllapsedTime: 84.5 seconds RetCode: 0 Status: OK PackageFile: hummingbird_1.10.0.tgz PackageFileSize: 476.9 KiB