Package: hpar Version: 1.42.0 Command: F:\biocbuild\bbs-3.17-bioc\R\bin\R.exe CMD check --no-multiarch --install=check:hpar.install-out.txt --library=F:\biocbuild\bbs-3.17-bioc\R\library --no-vignettes --timings hpar_1.42.0.tar.gz StartedAt: 2023-10-16 03:05:33 -0400 (Mon, 16 Oct 2023) EndedAt: 2023-10-16 03:07:56 -0400 (Mon, 16 Oct 2023) EllapsedTime: 143.7 seconds RetCode: 0 Status: OK CheckDir: hpar.Rcheck Warnings: 0