Package: hpar Version: 1.42.0 Command: chmod a+r hpar -R && F:\biocbuild\bbs-3.17-bioc\R\bin\R.exe CMD build --keep-empty-dirs --no-resave-data hpar StartedAt: 2023-10-15 19:50:58 -0400 (Sun, 15 Oct 2023) EndedAt: 2023-10-15 19:52:06 -0400 (Sun, 15 Oct 2023) EllapsedTime: 68.3 seconds RetCode: 0 Status: OK PackageFile: hpar_1.42.0.tar.gz PackageFileSize: 885.1 KiB