Package: hpar Version: 1.42.0 Command: /home/biocbuild/bbs-3.17-bioc/R/bin/R CMD INSTALL hpar StartedAt: 2023-10-15 15:49:04 -0400 (Sun, 15 Oct 2023) EndedAt: 2023-10-15 15:49:23 -0400 (Sun, 15 Oct 2023) EllapsedTime: 19.2 seconds RetCode: 0 Status: OK