Package: hpar Version: 1.42.0 Command: /Library/Frameworks/R.framework/Resources/bin/R CMD INSTALL hpar StartedAt: 2023-10-15 16:30:56 -0400 (Sun, 15 Oct 2023) EndedAt: 2023-10-15 16:31:56 -0400 (Sun, 15 Oct 2023) EllapsedTime: 60.1 seconds RetCode: 0 Status: OK