Package: hpar Version: 1.42.0 Command: /Library/Frameworks/R.framework/Resources/bin/R CMD check --install=check:hpar.install-out.txt --library=/Library/Frameworks/R.framework/Resources/library --no-vignettes --timings hpar_1.42.0.tar.gz StartedAt: 2023-10-16 02:43:48 -0400 (Mon, 16 Oct 2023) EndedAt: 2023-10-16 02:50:06 -0400 (Mon, 16 Oct 2023) EllapsedTime: 377.4 seconds RetCode: 0 Status: OK CheckDir: hpar.Rcheck Warnings: 0