Package: hpar Version: 1.42.0 Command: /Library/Frameworks/R.framework/Resources/bin/R CMD build --keep-empty-dirs --no-resave-data hpar StartedAt: 2023-10-15 18:54:54 -0400 (Sun, 15 Oct 2023) EndedAt: 2023-10-15 18:56:41 -0400 (Sun, 15 Oct 2023) EllapsedTime: 107.3 seconds RetCode: 0 Status: OK PackageFile: hpar_1.42.0.tar.gz PackageFileSize: 884.7 KiB