Package: hopach Version: 2.60.0 Command: /Library/Frameworks/R.framework/Resources/bin/R CMD check --install=check:hopach.install-out.txt --library=/Library/Frameworks/R.framework/Resources/library --no-vignettes --timings hopach_2.60.0.tar.gz StartedAt: 2023-10-16 02:43:27 -0400 (Mon, 16 Oct 2023) EndedAt: 2023-10-16 02:46:21 -0400 (Mon, 16 Oct 2023) EllapsedTime: 173.7 seconds RetCode: 0 Status: OK CheckDir: hopach.Rcheck Warnings: 0