Package: hopach Version: 2.60.0 Command: /Library/Frameworks/R.framework/Resources/bin/R CMD build --keep-empty-dirs --no-resave-data hopach StartedAt: 2023-10-15 18:54:16 -0400 (Sun, 15 Oct 2023) EndedAt: 2023-10-15 18:55:32 -0400 (Sun, 15 Oct 2023) EllapsedTime: 75.5 seconds RetCode: 0 Status: OK PackageFile: hopach_2.60.0.tar.gz PackageFileSize: 1.293 MiB