Package: hipathia Version: 3.0.2 Command: rm -rf hipathia.buildbin-libdir && mkdir hipathia.buildbin-libdir && F:\biocbuild\bbs-3.17-bioc\R\bin\R.exe CMD INSTALL --build --library=hipathia.buildbin-libdir hipathia_3.0.2.tar.gz StartedAt: 2023-10-16 08:56:09 -0400 (Mon, 16 Oct 2023) EndedAt: 2023-10-16 08:57:21 -0400 (Mon, 16 Oct 2023) EllapsedTime: 72.4 seconds RetCode: 0 Status: OK PackageFile: hipathia_3.0.2.zip PackageFileSize: 7.725 MiB