Package: hipathia Version: 3.0.2 Command: /home/biocbuild/bbs-3.17-bioc/R/bin/R CMD INSTALL hipathia StartedAt: 2023-10-15 15:48:22 -0400 (Sun, 15 Oct 2023) EndedAt: 2023-10-15 15:48:57 -0400 (Sun, 15 Oct 2023) EllapsedTime: 35.4 seconds RetCode: 0 Status: OK