Package: hipathia Version: 3.0.2 Command: /home/biocbuild/bbs-3.17-bioc/R/bin/R CMD check --install=check:hipathia.install-out.txt --library=/home/biocbuild/bbs-3.17-bioc/R/site-library --timings hipathia_3.0.2.tar.gz StartedAt: 2023-10-15 22:01:50 -0400 (Sun, 15 Oct 2023) EndedAt: 2023-10-15 22:20:21 -0400 (Sun, 15 Oct 2023) EllapsedTime: 1110.7 seconds RetCode: 0 Status: WARNINGS CheckDir: hipathia.Rcheck Warnings: 1