Package: hipathia Version: 3.0.2 Command: /Library/Frameworks/R.framework/Resources/bin/R CMD INSTALL hipathia StartedAt: 2023-10-15 16:29:03 -0400 (Sun, 15 Oct 2023) EndedAt: 2023-10-15 16:30:57 -0400 (Sun, 15 Oct 2023) EllapsedTime: 113.6 seconds RetCode: 0 Status: OK