Package: hipathia Version: 3.0.2 Command: /Library/Frameworks/R.framework/Resources/bin/R CMD check --install=check:hipathia.install-out.txt --library=/Library/Frameworks/R.framework/Resources/library --no-vignettes --timings hipathia_3.0.2.tar.gz StartedAt: 2023-10-16 02:40:17 -0400 (Mon, 16 Oct 2023) EndedAt: 2023-10-16 03:17:53 -0400 (Mon, 16 Oct 2023) EllapsedTime: 2255.7 seconds RetCode: 0 Status: WARNINGS CheckDir: hipathia.Rcheck Warnings: 1