Package: hipathia Version: 3.0.2 Command: /Library/Frameworks/R.framework/Resources/bin/R CMD build --keep-empty-dirs --no-resave-data hipathia StartedAt: 2023-10-15 18:53:34 -0400 (Sun, 15 Oct 2023) EndedAt: 2023-10-15 19:09:28 -0400 (Sun, 15 Oct 2023) EllapsedTime: 953.2 seconds RetCode: 0 Status: OK PackageFile: hipathia_3.0.2.tar.gz PackageFileSize: 8.782 MiB