Package: hiReadsProcessor Version: 1.36.0 Command: /home/biocbuild/bbs-3.17-bioc/R/bin/R CMD INSTALL hiReadsProcessor StartedAt: 2023-10-15 15:21:29 -0400 (Sun, 15 Oct 2023) EndedAt: 2023-10-15 15:22:06 -0400 (Sun, 15 Oct 2023) EllapsedTime: 36.2 seconds RetCode: 0 Status: OK