Package: hiReadsProcessor Version: 1.36.0 Command: /Library/Frameworks/R.framework/Resources/bin/R CMD INSTALL hiReadsProcessor StartedAt: 2023-10-15 15:35:21 -0400 (Sun, 15 Oct 2023) EndedAt: 2023-10-15 15:37:13 -0400 (Sun, 15 Oct 2023) EllapsedTime: 112.3 seconds RetCode: 0 Status: OK