Package: hiReadsProcessor Version: 1.36.0 Command: /Library/Frameworks/R.framework/Resources/bin/R CMD build --keep-empty-dirs --no-resave-data hiReadsProcessor StartedAt: 2023-10-15 18:53:47 -0400 (Sun, 15 Oct 2023) EndedAt: 2023-10-15 18:56:10 -0400 (Sun, 15 Oct 2023) EllapsedTime: 143.7 seconds RetCode: 0 Status: OK PackageFile: hiReadsProcessor_1.36.0.tar.gz PackageFileSize: 3.147 MiB