Package: hermes Version: 1.4.0 Command: rm -rf hermes.buildbin-libdir && mkdir hermes.buildbin-libdir && F:\biocbuild\bbs-3.17-bioc\R\bin\R.exe CMD INSTALL --build --library=hermes.buildbin-libdir hermes_1.4.0.tar.gz StartedAt: 2023-10-16 08:55:34 -0400 (Mon, 16 Oct 2023) EndedAt: 2023-10-16 08:56:33 -0400 (Mon, 16 Oct 2023) EllapsedTime: 58.2 seconds RetCode: 0 Status: OK PackageFile: hermes_1.4.0.zip PackageFileSize: 3.423 MiB