Package: hca Version: 1.8.1 Command: F:\biocbuild\bbs-3.17-bioc\R\bin\R.exe CMD INSTALL hca StartedAt: 2023-10-15 16:27:41 -0400 (Sun, 15 Oct 2023) EndedAt: 2023-10-15 16:27:53 -0400 (Sun, 15 Oct 2023) EllapsedTime: 11.8 seconds RetCode: 0 Status: OK