Package: hca Version: 1.8.1 Command: rm -rf hca.buildbin-libdir && mkdir hca.buildbin-libdir && F:\biocbuild\bbs-3.17-bioc\R\bin\R.exe CMD INSTALL --build --library=hca.buildbin-libdir hca_1.8.1.tar.gz StartedAt: 2023-10-16 08:55:12 -0400 (Mon, 16 Oct 2023) EndedAt: 2023-10-16 08:55:26 -0400 (Mon, 16 Oct 2023) EllapsedTime: 14.0 seconds RetCode: 0 Status: OK PackageFile: hca_1.8.1.zip PackageFileSize: 596 KiB