Package: hca Version: 1.8.1 Command: /home/biocbuild/bbs-3.17-bioc/R/bin/R CMD INSTALL hca StartedAt: 2023-10-15 15:28:47 -0400 (Sun, 15 Oct 2023) EndedAt: 2023-10-15 15:28:54 -0400 (Sun, 15 Oct 2023) EllapsedTime: 6.6 seconds RetCode: 0 Status: OK