Package: hapFabia Version: 1.42.0 Command: chmod a+r hapFabia -R && F:\biocbuild\bbs-3.17-bioc\R\bin\R.exe CMD build --keep-empty-dirs --no-resave-data hapFabia StartedAt: 2023-10-15 19:46:37 -0400 (Sun, 15 Oct 2023) EndedAt: 2023-10-15 19:47:14 -0400 (Sun, 15 Oct 2023) EllapsedTime: 37.6 seconds RetCode: 0 Status: OK PackageFile: hapFabia_1.42.0.tar.gz PackageFileSize: 1.573 MiB