Package: hapFabia Version: 1.42.0 Command: rm -rf hapFabia.buildbin-libdir && mkdir hapFabia.buildbin-libdir && F:\biocbuild\bbs-3.17-bioc\R\bin\R.exe CMD INSTALL --build --library=hapFabia.buildbin-libdir hapFabia_1.42.0.tar.gz StartedAt: 2023-10-16 08:55:05 -0400 (Mon, 16 Oct 2023) EndedAt: 2023-10-16 08:55:28 -0400 (Mon, 16 Oct 2023) EllapsedTime: 22.7 seconds RetCode: 0 Status: OK PackageFile: hapFabia_1.42.0.zip PackageFileSize: 1.718 MiB