Package: hapFabia Version: 1.42.0 Command: /Library/Frameworks/R.framework/Resources/bin/R CMD INSTALL hapFabia StartedAt: 2023-10-15 15:05:50 -0400 (Sun, 15 Oct 2023) EndedAt: 2023-10-15 15:06:28 -0400 (Sun, 15 Oct 2023) EllapsedTime: 37.7 seconds RetCode: 0 Status: OK