Package: gwasurvivr Version: 1.18.0 Command: F:\biocbuild\bbs-3.17-bioc\R\bin\R.exe CMD INSTALL gwasurvivr StartedAt: 2023-10-15 16:47:30 -0400 (Sun, 15 Oct 2023) EndedAt: 2023-10-15 16:48:21 -0400 (Sun, 15 Oct 2023) EllapsedTime: 50.9 seconds RetCode: 0 Status: OK