Package: gwasurvivr Version: 1.18.0 Command: /home/biocbuild/bbs-3.17-bioc/R/bin/R CMD check --install=check:gwasurvivr.install-out.txt --library=/home/biocbuild/bbs-3.17-bioc/R/site-library --timings gwasurvivr_1.18.0.tar.gz StartedAt: 2023-10-15 21:56:06 -0400 (Sun, 15 Oct 2023) EndedAt: 2023-10-15 22:04:20 -0400 (Sun, 15 Oct 2023) EllapsedTime: 493.6 seconds RetCode: 0 Status: OK CheckDir: gwasurvivr.Rcheck Warnings: 0