Package: gwasurvivr Version: 1.18.0 Command: /Library/Frameworks/R.framework/Resources/bin/R CMD INSTALL gwasurvivr StartedAt: 2023-10-15 16:10:40 -0400 (Sun, 15 Oct 2023) EndedAt: 2023-10-15 16:13:01 -0400 (Sun, 15 Oct 2023) EllapsedTime: 140.6 seconds RetCode: 0 Status: OK