Package: gwasurvivr Version: 1.18.0 Command: rm -rf gwasurvivr.buildbin-libdir && mkdir gwasurvivr.buildbin-libdir && /Users/biocbuild/BBS/utils/build-universal.sh gwasurvivr_1.18.0.tar.gz /Library/Frameworks/R.framework/Resources/bin/R gwasurvivr.buildbin-libdir StartedAt: 2023-10-16 09:32:02 -0400 (Mon, 16 Oct 2023) EndedAt: 2023-10-16 09:34:30 -0400 (Mon, 16 Oct 2023) EllapsedTime: 148.5 seconds RetCode: 0 Status: OK PackageFile: gwasurvivr_1.18.0.tgz PackageFileSize: 409.9 KiB