Package: gwascat Version: 2.32.0 Command: F:\biocbuild\bbs-3.17-bioc\R\bin\R.exe CMD INSTALL gwascat StartedAt: 2023-10-15 17:02:03 -0400 (Sun, 15 Oct 2023) EndedAt: 2023-10-15 17:03:09 -0400 (Sun, 15 Oct 2023) EllapsedTime: 65.4 seconds RetCode: 0 Status: OK