Package: gwascat Version: 2.32.0 Command: F:\biocbuild\bbs-3.17-bioc\R\bin\R.exe CMD check --no-multiarch --install=check:gwascat.install-out.txt --library=F:\biocbuild\bbs-3.17-bioc\R\library --no-vignettes --timings gwascat_2.32.0.tar.gz StartedAt: 2023-10-16 02:56:08 -0400 (Mon, 16 Oct 2023) EndedAt: 2023-10-16 03:04:18 -0400 (Mon, 16 Oct 2023) EllapsedTime: 489.9 seconds RetCode: 0 Status: OK CheckDir: gwascat.Rcheck Warnings: 0