Package: gwascat Version: 2.32.0 Command: chmod a+r gwascat -R && F:\biocbuild\bbs-3.17-bioc\R\bin\R.exe CMD build --keep-empty-dirs --no-resave-data gwascat StartedAt: 2023-10-15 19:45:30 -0400 (Sun, 15 Oct 2023) EndedAt: 2023-10-15 19:47:53 -0400 (Sun, 15 Oct 2023) EllapsedTime: 143.4 seconds RetCode: 0 Status: OK PackageFile: gwascat_2.32.0.tar.gz PackageFileSize: 33.44 MiB