Package: gwascat Version: 2.32.0 Command: /home/biocbuild/bbs-3.17-bioc/R/bin/R CMD INSTALL gwascat StartedAt: 2023-10-15 15:48:22 -0400 (Sun, 15 Oct 2023) EndedAt: 2023-10-15 15:49:13 -0400 (Sun, 15 Oct 2023) EllapsedTime: 50.6 seconds RetCode: 0 Status: OK