Package: gwascat Version: 2.32.0 Command: /home/biocbuild/bbs-3.17-bioc/R/bin/R CMD check --install=check:gwascat.install-out.txt --library=/home/biocbuild/bbs-3.17-bioc/R/site-library --timings gwascat_2.32.0.tar.gz StartedAt: 2023-10-15 21:55:11 -0400 (Sun, 15 Oct 2023) EndedAt: 2023-10-15 22:04:27 -0400 (Sun, 15 Oct 2023) EllapsedTime: 556.9 seconds RetCode: 0 Status: OK CheckDir: gwascat.Rcheck Warnings: 0