Package: gwascat Version: 2.32.0 Command: /home/biocbuild/bbs-3.17-bioc/R/bin/R CMD build --keep-empty-dirs --no-resave-data gwascat StartedAt: 2023-10-15 17:03:48 -0400 (Sun, 15 Oct 2023) EndedAt: 2023-10-15 17:06:03 -0400 (Sun, 15 Oct 2023) EllapsedTime: 134.6 seconds RetCode: 0 Status: OK PackageFile: gwascat_2.32.0.tar.gz PackageFileSize: 33.73 MiB