Package: gsean Version: 1.20.2 Command: /Library/Frameworks/R.framework/Resources/bin/R CMD INSTALL gsean StartedAt: 2023-10-15 16:07:03 -0400 (Sun, 15 Oct 2023) EndedAt: 2023-10-15 16:08:25 -0400 (Sun, 15 Oct 2023) EllapsedTime: 81.3 seconds RetCode: 0 Status: OK