Package: gsean Version: 1.20.2 Command: rm -rf gsean.buildbin-libdir && mkdir gsean.buildbin-libdir && /Users/biocbuild/BBS/utils/build-universal.sh gsean_1.20.2.tar.gz /Library/Frameworks/R.framework/Resources/bin/R gsean.buildbin-libdir StartedAt: 2023-10-16 09:31:45 -0400 (Mon, 16 Oct 2023) EndedAt: 2023-10-16 09:33:13 -0400 (Mon, 16 Oct 2023) EllapsedTime: 88.2 seconds RetCode: 0 Status: OK PackageFile: gsean_1.20.2.tgz PackageFileSize: 1.559 MiB