Package: gscreend Version: 1.14.0 Command: F:\biocbuild\bbs-3.17-bioc\R\bin\R.exe CMD INSTALL gscreend StartedAt: 2023-10-15 16:34:02 -0400 (Sun, 15 Oct 2023) EndedAt: 2023-10-15 16:34:29 -0400 (Sun, 15 Oct 2023) EllapsedTime: 26.6 seconds RetCode: 0 Status: OK