Package: gscreend Version: 1.14.0 Command: /Library/Frameworks/R.framework/Resources/bin/R CMD check --install=check:gscreend.install-out.txt --library=/Library/Frameworks/R.framework/Resources/library --no-vignettes --timings gscreend_1.14.0.tar.gz StartedAt: 2023-10-16 02:25:58 -0400 (Mon, 16 Oct 2023) EndedAt: 2023-10-16 02:35:52 -0400 (Mon, 16 Oct 2023) EllapsedTime: 593.6 seconds RetCode: 0 Status: OK CheckDir: gscreend.Rcheck Warnings: 0