Package: graphite Version: 1.46.0 Command: rm -rf graphite.buildbin-libdir && mkdir graphite.buildbin-libdir && F:\biocbuild\bbs-3.17-bioc\R\bin\R.exe CMD INSTALL --build --library=graphite.buildbin-libdir graphite_1.46.0.tar.gz StartedAt: 2023-10-16 08:54:11 -0400 (Mon, 16 Oct 2023) EndedAt: 2023-10-16 08:54:34 -0400 (Mon, 16 Oct 2023) EllapsedTime: 23.0 seconds RetCode: 0 Status: OK PackageFile: graphite_1.46.0.zip PackageFileSize: 917.1 KiB