Package: graph Version: 1.78.0 Command: /home/biocbuild/bbs-3.17-bioc/R/bin/R CMD build --keep-empty-dirs --no-resave-data graph StartedAt: 2023-10-15 17:00:52 -0400 (Sun, 15 Oct 2023) EndedAt: 2023-10-15 17:01:20 -0400 (Sun, 15 Oct 2023) EllapsedTime: 27.9 seconds RetCode: 0 Status: OK PackageFile: graph_1.78.0.tar.gz PackageFileSize: 1.221 MiB