Package: granulator Version: 1.8.0 Command: /home/biocbuild/bbs-3.17-bioc/R/bin/R CMD build --keep-empty-dirs --no-resave-data granulator StartedAt: 2023-10-15 17:00:30 -0400 (Sun, 15 Oct 2023) EndedAt: 2023-10-15 17:03:37 -0400 (Sun, 15 Oct 2023) EllapsedTime: 187.4 seconds RetCode: 0 Status: OK PackageFile: granulator_1.8.0.tar.gz PackageFileSize: 1.178 MiB